Package: PMScanR Version: 0.99.6 Command: /home/biocbuild/bbs-3.22-bioc/R/bin/R CMD build --keep-empty-dirs --no-resave-data --md5 PMScanR StartedAt: 2025-10-27 19:20:35 -0400 (Mon, 27 Oct 2025) EndedAt: 2025-10-27 19:21:32 -0400 (Mon, 27 Oct 2025) EllapsedTime: 57.0 seconds RetCode: 0 Status: OK PackageFile: PMScanR_0.99.6.tar.gz PackageFileSize: 1.769 MiB