Package: PMScanR Version: 0.99.6 Command: /Library/Frameworks/R.framework/Resources/bin/R CMD INSTALL PMScanR StartedAt: 2025-10-24 15:39:08 -0400 (Fri, 24 Oct 2025) EndedAt: 2025-10-24 15:39:57 -0400 (Fri, 24 Oct 2025) EllapsedTime: 48.1 seconds RetCode: 0 Status: OK