Package: PMScanR Version: 0.99.6 Command: rm -rf PMScanR.buildbin-libdir && mkdir PMScanR.buildbin-libdir && /Users/biocbuild/BBS/utils/build-universal.sh PMScanR_0.99.6.tar.gz /Library/Frameworks/R.framework/Resources/bin/R PMScanR.buildbin-libdir StartedAt: 2025-10-25 01:56:04 -0400 (Sat, 25 Oct 2025) EndedAt: 2025-10-25 01:56:56 -0400 (Sat, 25 Oct 2025) EllapsedTime: 51.9 seconds RetCode: 0 Status: OK PackageFile: PMScanR_0.99.6.tgz PackageFileSize: 1.995 MiB