Package: PMScanR Version: 0.99.6 Command: /Library/Frameworks/R.framework/Resources/bin/R CMD INSTALL PMScanR StartedAt: 2025-10-26 15:17:56 -0400 (Sun, 26 Oct 2025) EndedAt: 2025-10-26 15:18:11 -0400 (Sun, 26 Oct 2025) EllapsedTime: 14.9 seconds RetCode: 0 Status: OK