Package: PLSDAbatch Version: 1.5.0 Command: /home/biocbuild/bbs-3.22-bioc/R/bin/R CMD INSTALL PLSDAbatch StartedAt: 2025-10-27 15:34:35 -0400 (Mon, 27 Oct 2025) EndedAt: 2025-10-27 15:35:18 -0400 (Mon, 27 Oct 2025) EllapsedTime: 43.0 seconds RetCode: 0 Status: OK