Package: PLSDAbatch Version: 1.6.0 Command: rm -rf PLSDAbatch.buildbin-libdir && mkdir PLSDAbatch.buildbin-libdir && /Users/biocbuild/BBS/utils/build-universal.sh PLSDAbatch_1.6.0.tar.gz /Library/Frameworks/R.framework/Resources/bin/R PLSDAbatch.buildbin-libdir StartedAt: 2025-11-02 23:16:08 -0500 (Sun, 02 Nov 2025) EndedAt: 2025-11-02 23:16:24 -0500 (Sun, 02 Nov 2025) EllapsedTime: 15.3 seconds RetCode: 0 Status: OK PackageFile: PLSDAbatch_1.6.0.tgz PackageFileSize: 1.659 MiB