Package: PLPE Version: 1.69.0 Command: /home/biocbuild/bbs-3.22-bioc/R/bin/R CMD INSTALL PLPE StartedAt: 2025-10-27 15:16:05 -0400 (Mon, 27 Oct 2025) EndedAt: 2025-10-27 15:16:08 -0400 (Mon, 27 Oct 2025) EllapsedTime: 3.2 seconds RetCode: 0 Status: OK