Package: PIUMA Version: 1.6.0 Command: /home/biocbuild/R/R/bin/R CMD build --keep-empty-dirs --no-resave-data PIUMA StartedAt: 2025-11-14 04:10:26 -0000 (Fri, 14 Nov 2025) EndedAt: 2025-11-14 04:12:06 -0000 (Fri, 14 Nov 2025) EllapsedTime: 100.0 seconds RetCode: 1 Status: ERROR PackageFile: None PackageFileSize: NA