Package: PIUMA Version: 1.5.0 Command: /home/biocbuild/bbs-3.22-bioc/R/bin/R CMD INSTALL PIUMA StartedAt: 2025-10-24 15:33:46 -0400 (Fri, 24 Oct 2025) EndedAt: 2025-10-24 15:34:15 -0400 (Fri, 24 Oct 2025) EllapsedTime: 29.3 seconds RetCode: 0 Status: OK