Package: PIUMA Version: 1.5.0 Command: /home/biocbuild/bbs-3.22-bioc/R/bin/R CMD build --keep-empty-dirs --no-resave-data --md5 PIUMA StartedAt: 2025-10-24 19:27:29 -0400 (Fri, 24 Oct 2025) EndedAt: 2025-10-24 19:28:49 -0400 (Fri, 24 Oct 2025) EllapsedTime: 80.1 seconds RetCode: 1 Status: ERROR PackageFile: None PackageFileSize: NA