Package: PIUMA Version: 1.5.0 Command: /Library/Frameworks/R.framework/Resources/bin/R CMD INSTALL PIUMA StartedAt: 2025-10-24 15:31:16 -0400 (Fri, 24 Oct 2025) EndedAt: 2025-10-24 15:31:54 -0400 (Fri, 24 Oct 2025) EllapsedTime: 38.4 seconds RetCode: 0 Status: OK