Package: PIUMA Version: 1.5.0 Command: /Library/Frameworks/R.framework/Resources/bin/R CMD build --keep-empty-dirs --no-resave-data PIUMA StartedAt: 2025-10-24 18:16:23 -0400 (Fri, 24 Oct 2025) EndedAt: 2025-10-24 18:17:53 -0400 (Fri, 24 Oct 2025) EllapsedTime: 90.2 seconds RetCode: 1 Status: ERROR PackageFile: None PackageFileSize: NA