Package: PIPETS Version: 1.6.0 Command: /Library/Frameworks/R.framework/Resources/bin/R CMD INSTALL PIPETS StartedAt: 2025-11-10 15:11:07 -0500 (Mon, 10 Nov 2025) EndedAt: 2025-11-10 15:11:12 -0500 (Mon, 10 Nov 2025) EllapsedTime: 4.5 seconds RetCode: 0 Status: OK