Package: PIPETS Version: 1.6.0 Command: /Library/Frameworks/R.framework/Resources/bin/R CMD build --keep-empty-dirs --no-resave-data PIPETS StartedAt: 2025-11-10 17:21:40 -0500 (Mon, 10 Nov 2025) EndedAt: 2025-11-10 17:21:48 -0500 (Mon, 10 Nov 2025) EllapsedTime: 8.1 seconds RetCode: 0 Status: OK PackageFile: PIPETS_1.6.0.tar.gz PackageFileSize: 2.882 MiB