Package: PICB Version: 1.1.1 Command: /home/biocbuild/bbs-3.22-bioc/R/bin/R CMD INSTALL PICB StartedAt: 2025-10-24 15:38:01 -0400 (Fri, 24 Oct 2025) EndedAt: 2025-10-24 15:38:03 -0400 (Fri, 24 Oct 2025) EllapsedTime: 2.3 seconds RetCode: 0 Status: OK