Package: PICB Version: 1.1.1 Command: /Library/Frameworks/R.framework/Resources/bin/R CMD INSTALL PICB StartedAt: 2025-10-24 15:18:35 -0400 (Fri, 24 Oct 2025) EndedAt: 2025-10-24 15:18:36 -0400 (Fri, 24 Oct 2025) EllapsedTime: 1.6 seconds RetCode: 0 Status: OK