Package: PECA Version: 1.45.0 Command: /home/biocbuild/bbs-3.22-bioc/R/bin/R CMD INSTALL PECA StartedAt: 2025-10-24 15:39:02 -0400 (Fri, 24 Oct 2025) EndedAt: 2025-10-24 15:39:22 -0400 (Fri, 24 Oct 2025) EllapsedTime: 20.1 seconds RetCode: 0 Status: OK