Package: PDATK Version: 1.17.0 Command: /home/biocbuild/bbs-3.22-bioc/R/bin/R CMD INSTALL PDATK StartedAt: 2025-10-24 15:55:28 -0400 (Fri, 24 Oct 2025) EndedAt: 2025-10-24 15:56:12 -0400 (Fri, 24 Oct 2025) EllapsedTime: 44.2 seconds RetCode: 0 Status: OK