Package: PDATK Version: 1.17.0 Command: /home/biocbuild/bbs-3.22-bioc/R/bin/R CMD build --keep-empty-dirs --no-resave-data --md5 PDATK StartedAt: 2025-10-24 19:24:28 -0400 (Fri, 24 Oct 2025) EndedAt: 2025-10-24 19:26:17 -0400 (Fri, 24 Oct 2025) EllapsedTime: 109.1 seconds RetCode: 0 Status: OK PackageFile: PDATK_1.17.0.tar.gz PackageFileSize: 3.009 MiB