Package: PDATK Version: 1.18.0 Command: /Library/Frameworks/R.framework/Resources/bin/R CMD INSTALL PDATK StartedAt: 2025-11-10 15:23:23 -0500 (Mon, 10 Nov 2025) EndedAt: 2025-11-10 15:23:41 -0500 (Mon, 10 Nov 2025) EllapsedTime: 17.6 seconds RetCode: 0 Status: OK