Package: PCAtools Version: 2.21.0 Command: /home/biocbuild/R/R/bin/R CMD INSTALL PCAtools StartedAt: 2025-10-23 21:16:57 -0000 (Thu, 23 Oct 2025) EndedAt: 2025-10-23 21:17:46 -0000 (Thu, 23 Oct 2025) EllapsedTime: 49.8 seconds RetCode: 0 Status: OK