Package: PCAtools Version: 2.21.0 Command: /home/biocbuild/R/R/bin/R CMD build --keep-empty-dirs --no-resave-data PCAtools StartedAt: 2025-10-21 01:59:22 -0000 (Tue, 21 Oct 2025) EndedAt: 2025-10-21 02:04:30 -0000 (Tue, 21 Oct 2025) EllapsedTime: 308.2 seconds RetCode: 0 Status: OK PackageFile: PCAtools_2.21.0.tar.gz PackageFileSize: 7.586 MiB