Package: PCAtools Version: 2.21.0 Command: /Library/Frameworks/R.framework/Resources/bin/R CMD build --keep-empty-dirs --no-resave-data PCAtools StartedAt: 2025-10-24 18:12:41 -0400 (Fri, 24 Oct 2025) EndedAt: 2025-10-24 18:15:54 -0400 (Fri, 24 Oct 2025) EllapsedTime: 193.5 seconds RetCode: 1 Status: ERROR PackageFile: None PackageFileSize: NA