Package: PCAtools Version: 2.21.0 Command: /Library/Frameworks/R.framework/Resources/bin/R CMD INSTALL PCAtools StartedAt: 2025-10-24 15:31:31 -0400 (Fri, 24 Oct 2025) EndedAt: 2025-10-24 15:31:44 -0400 (Fri, 24 Oct 2025) EllapsedTime: 12.4 seconds RetCode: 0 Status: OK