Package: PCAN Version: 1.37.0 Command: /home/biocbuild/bbs-3.22-bioc/R/bin/R CMD build --keep-empty-dirs --no-resave-data --md5 PCAN StartedAt: 2025-10-24 19:23:56 -0400 (Fri, 24 Oct 2025) EndedAt: 2025-10-24 19:24:47 -0400 (Fri, 24 Oct 2025) EllapsedTime: 51.0 seconds RetCode: 0 Status: OK PackageFile: PCAN_1.37.0.tar.gz PackageFileSize: 2.59 MiB