Package: PCAN Version: 1.38.0 Command: rm -rf PCAN.buildbin-libdir && mkdir PCAN.buildbin-libdir && /Users/biocbuild/BBS/utils/build-universal.sh PCAN_1.38.0.tar.gz /Library/Frameworks/R.framework/Resources/bin/R PCAN.buildbin-libdir StartedAt: 2025-11-04 23:14:23 -0500 (Tue, 04 Nov 2025) EndedAt: 2025-11-04 23:14:25 -0500 (Tue, 04 Nov 2025) EllapsedTime: 2.0 seconds RetCode: 0 Status: OK PackageFile: PCAN_1.38.0.tgz PackageFileSize: 2.614 MiB