Package: PANR Version: 1.55.0 Command: /home/biocbuild/bbs-3.22-bioc/R/bin/R CMD INSTALL PANR StartedAt: 2025-10-27 15:07:57 -0400 (Mon, 27 Oct 2025) EndedAt: 2025-10-27 15:08:22 -0400 (Mon, 27 Oct 2025) EllapsedTime: 25.0 seconds RetCode: 0 Status: OK