Package: PADOG Version: 1.52.0 Command: /Library/Frameworks/R.framework/Resources/bin/R CMD INSTALL PADOG StartedAt: 2025-10-31 15:13:06 -0400 (Fri, 31 Oct 2025) EndedAt: 2025-10-31 15:13:11 -0400 (Fri, 31 Oct 2025) EllapsedTime: 5.1 seconds RetCode: 0 Status: OK