Package: PADOG Version: 1.52.0 Command: /Library/Frameworks/R.framework/Resources/bin/R CMD build --keep-empty-dirs --no-resave-data PADOG StartedAt: 2025-10-31 17:20:55 -0400 (Fri, 31 Oct 2025) EndedAt: 2025-10-31 17:22:04 -0400 (Fri, 31 Oct 2025) EllapsedTime: 68.7 seconds RetCode: 0 Status: OK PackageFile: PADOG_1.52.0.tar.gz PackageFileSize: 369.5 KiB