Package: PADOG Version: 1.52.0 Command: rm -rf PADOG.buildbin-libdir && mkdir PADOG.buildbin-libdir && /Users/biocbuild/BBS/utils/build-universal.sh PADOG_1.52.0.tar.gz /Library/Frameworks/R.framework/Resources/bin/R PADOG.buildbin-libdir StartedAt: 2025-10-31 23:17:34 -0400 (Fri, 31 Oct 2025) EndedAt: 2025-10-31 23:17:40 -0400 (Fri, 31 Oct 2025) EllapsedTime: 6.1 seconds RetCode: 0 Status: OK PackageFile: PADOG_1.52.0.tgz PackageFileSize: 400.5 KiB