Package: PAA Version: 1.43.0 Command: /home/biocbuild/bbs-3.22-bioc/R/bin/R CMD INSTALL PAA StartedAt: 2025-10-24 15:49:36 -0400 (Fri, 24 Oct 2025) EndedAt: 2025-10-24 15:50:13 -0400 (Fri, 24 Oct 2025) EllapsedTime: 37.6 seconds RetCode: 0 Status: OK