Package: OutSplice Version: 1.10.0 Command: /home/biocbuild/bbs-3.22-bioc/R/bin/R CMD check --install=check:OutSplice.install-out.txt --library=/home/biocbuild/bbs-3.22-bioc/R/site-library --timings OutSplice_1.10.0.tar.gz StartedAt: 2025-11-01 02:31:46 -0400 (Sat, 01 Nov 2025) EndedAt: 2025-11-01 02:41:08 -0400 (Sat, 01 Nov 2025) EllapsedTime: 561.8 seconds RetCode: 0 Status: OK CheckDir: OutSplice.Rcheck Warnings: 0