Package: OutSplice Version: 1.9.0 Command: /Library/Frameworks/R.framework/Resources/bin/R CMD INSTALL OutSplice StartedAt: 2025-10-24 15:57:59 -0400 (Fri, 24 Oct 2025) EndedAt: 2025-10-24 15:58:45 -0400 (Fri, 24 Oct 2025) EllapsedTime: 46.7 seconds RetCode: 0 Status: OK