Package: OutSplice Version: 1.9.0 Command: /Library/Frameworks/R.framework/Resources/bin/R CMD build --keep-empty-dirs --no-resave-data OutSplice StartedAt: 2025-10-24 17:17:49 -0400 (Fri, 24 Oct 2025) EndedAt: 2025-10-24 17:18:24 -0400 (Fri, 24 Oct 2025) EllapsedTime: 35.4 seconds RetCode: 0 Status: OK PackageFile: OutSplice_1.9.0.tar.gz PackageFileSize: 3.863 MiB