Package: OutSplice Version: 1.9.0 Command: rm -rf OutSplice.buildbin-libdir && mkdir OutSplice.buildbin-libdir && /Users/biocbuild/BBS/utils/build-universal.sh OutSplice_1.9.0.tar.gz /Library/Frameworks/R.framework/Resources/bin/R OutSplice.buildbin-libdir StartedAt: 2025-10-24 23:13:26 -0400 (Fri, 24 Oct 2025) EndedAt: 2025-10-24 23:13:41 -0400 (Fri, 24 Oct 2025) EllapsedTime: 15.4 seconds RetCode: 0 Status: OK PackageFile: OutSplice_1.9.0.tgz PackageFileSize: 3.904 MiB