Package: Oscope Version: 1.40.0 Command: /Library/Frameworks/R.framework/Resources/bin/R CMD INSTALL Oscope StartedAt: 2025-11-10 15:06:03 -0500 (Mon, 10 Nov 2025) EndedAt: 2025-11-10 15:06:08 -0500 (Mon, 10 Nov 2025) EllapsedTime: 4.9 seconds RetCode: 0 Status: OK