Package: Oscope Version: 1.40.0 Command: rm -rf Oscope.buildbin-libdir && mkdir Oscope.buildbin-libdir && /Users/biocbuild/BBS/utils/build-universal.sh Oscope_1.40.0.tar.gz /Library/Frameworks/R.framework/Resources/bin/R Oscope.buildbin-libdir StartedAt: 2025-11-10 23:30:28 -0500 (Mon, 10 Nov 2025) EndedAt: 2025-11-10 23:30:31 -0500 (Mon, 10 Nov 2025) EllapsedTime: 3.1 seconds RetCode: 0 Status: OK PackageFile: Oscope_1.40.0.tgz PackageFileSize: 851.7 KiB