Package: Organism.dplyr Version: 1.37.1 Command: /home/biocbuild/bbs-3.22-bioc/R/bin/R CMD INSTALL Organism.dplyr StartedAt: 2025-10-24 15:50:43 -0400 (Fri, 24 Oct 2025) EndedAt: 2025-10-24 15:51:21 -0400 (Fri, 24 Oct 2025) EllapsedTime: 37.8 seconds RetCode: 0 Status: OK