Package: Organism.dplyr Version: 1.37.1 Command: /home/biocbuild/bbs-3.22-bioc/R/bin/R CMD build --keep-empty-dirs --no-resave-data --md5 Organism.dplyr StartedAt: 2025-10-24 19:16:53 -0400 (Fri, 24 Oct 2025) EndedAt: 2025-10-24 19:18:30 -0400 (Fri, 24 Oct 2025) EllapsedTime: 97.1 seconds RetCode: 0 Status: OK PackageFile: Organism.dplyr_1.37.1.tar.gz PackageFileSize: 580.8 KiB