Package: Organism.dplyr Version: 1.38.0 Command: rm -rf Organism.dplyr.buildbin-libdir && mkdir Organism.dplyr.buildbin-libdir && /Users/biocbuild/BBS/utils/build-universal.sh Organism.dplyr_1.38.0.tar.gz /Library/Frameworks/R.framework/Resources/bin/R Organism.dplyr.buildbin-libdir StartedAt: 2025-11-10 23:30:24 -0500 (Mon, 10 Nov 2025) EndedAt: 2025-11-10 23:30:41 -0500 (Mon, 10 Nov 2025) EllapsedTime: 17.4 seconds RetCode: 0 Status: OK PackageFile: Organism.dplyr_1.38.0.tgz PackageFileSize: 893.1 KiB