Package: OrderedList Version: 1.82.0 Command: /Library/Frameworks/R.framework/Resources/bin/R CMD build --keep-empty-dirs --no-resave-data OrderedList StartedAt: 2025-11-10 17:16:18 -0500 (Mon, 10 Nov 2025) EndedAt: 2025-11-10 17:17:47 -0500 (Mon, 10 Nov 2025) EllapsedTime: 88.9 seconds RetCode: 0 Status: OK PackageFile: OrderedList_1.82.0.tar.gz PackageFileSize: 1.056 MiB