Package: OpenStats Version: 1.22.0 Command: /Library/Frameworks/R.framework/Resources/bin/R CMD INSTALL OpenStats StartedAt: 2025-10-31 15:20:45 -0400 (Fri, 31 Oct 2025) EndedAt: 2025-10-31 15:21:06 -0400 (Fri, 31 Oct 2025) EllapsedTime: 20.1 seconds RetCode: 0 Status: OK