Package: OpenStats Version: 1.22.0 Command: /Library/Frameworks/R.framework/Resources/bin/R CMD build --keep-empty-dirs --no-resave-data OpenStats StartedAt: 2025-10-31 18:09:31 -0400 (Fri, 31 Oct 2025) EndedAt: 2025-10-31 18:10:03 -0400 (Fri, 31 Oct 2025) EllapsedTime: 32.1 seconds RetCode: 0 Status: OK PackageFile: OpenStats_1.22.0.tar.gz PackageFileSize: 600.2 KiB