Package: OpenStats Version: 1.21.0 Command: /Library/Frameworks/R.framework/Resources/bin/R CMD INSTALL OpenStats StartedAt: 2025-10-24 15:08:11 -0400 (Fri, 24 Oct 2025) EndedAt: 2025-10-24 15:08:21 -0400 (Fri, 24 Oct 2025) EllapsedTime: 10.3 seconds RetCode: 0 Status: OK