Package: OpenStats Version: 1.21.0 Command: /Library/Frameworks/R.framework/Resources/bin/R CMD build --keep-empty-dirs --no-resave-data OpenStats StartedAt: 2025-10-24 17:16:21 -0400 (Fri, 24 Oct 2025) EndedAt: 2025-10-24 17:16:32 -0400 (Fri, 24 Oct 2025) EllapsedTime: 11.1 seconds RetCode: 0 Status: OK PackageFile: OpenStats_1.21.0.tar.gz PackageFileSize: 600.6 KiB