Package: OpenStats Version: 1.21.0 Command: rm -rf OpenStats.buildbin-libdir && mkdir OpenStats.buildbin-libdir && /Users/biocbuild/BBS/utils/build-universal.sh OpenStats_1.21.0.tar.gz /Library/Frameworks/R.framework/Resources/bin/R OpenStats.buildbin-libdir StartedAt: 2025-10-24 23:13:15 -0400 (Fri, 24 Oct 2025) EndedAt: 2025-10-24 23:13:22 -0400 (Fri, 24 Oct 2025) EllapsedTime: 7.2 seconds RetCode: 0 Status: OK PackageFile: OpenStats_1.21.0.tgz PackageFileSize: 917.4 KiB