Package: OpenStats Version: 1.22.0 Maintainer: Marina Kan MaintainerEmail: marinak at ebi.ac.uk git_url: https://git.bioconductor.org/packages/OpenStats git_branch: RELEASE_3_22 git_last_commit: c2e418f git_last_commit_date: 2025-10-29 10:58:46 -0400 (Wed, 29 Oct 2025)