Package: OncoSimulR Version: 4.12.0 Command: /home/biocbuild/bbs-3.22-bioc/R/bin/R CMD check --install=check:OncoSimulR.install-out.txt --library=/home/biocbuild/bbs-3.22-bioc/R/site-library --timings OncoSimulR_4.12.0.tar.gz StartedAt: 2025-11-17 02:27:08 -0500 (Mon, 17 Nov 2025) EndedAt: 2025-11-17 02:33:19 -0500 (Mon, 17 Nov 2025) EllapsedTime: 371.4 seconds RetCode: 0 Status: OK CheckDir: OncoSimulR.Rcheck Warnings: 0