Package: OncoSimulR Version: 4.12.0 Command: /Library/Frameworks/R.framework/Resources/bin/R CMD INSTALL OncoSimulR StartedAt: 2025-11-03 15:24:32 -0500 (Mon, 03 Nov 2025) EndedAt: 2025-11-03 15:27:08 -0500 (Mon, 03 Nov 2025) EllapsedTime: 155.4 seconds RetCode: 0 Status: OK