Package: OncoSimulR Version: 4.12.0 Command: /Library/Frameworks/R.framework/Resources/bin/R CMD build --keep-empty-dirs --no-resave-data OncoSimulR StartedAt: 2025-11-03 18:05:21 -0500 (Mon, 03 Nov 2025) EndedAt: 2025-11-03 18:13:23 -0500 (Mon, 03 Nov 2025) EllapsedTime: 481.9 seconds RetCode: 0 Status: OK PackageFile: OncoSimulR_4.12.0.tar.gz PackageFileSize: 9.224 MiB